BEGIN:VCALENDAR
VERSION:2.0
PRODID:-//Donna Boyle - ECPv4.5.13//NONSGML v1.0//EN
CALSCALE:GREGORIAN
METHOD:PUBLISH
X-WR-CALNAME:Donna Boyle
X-ORIGINAL-URL:https://donnaboyle.com
X-WR-CALDESC:Events for Donna Boyle
BEGIN:VEVENT
DTSTART;TZID=UTC+0:20240210T193000
DTEND;TZID=UTC+0:20240210T230000
DTSTAMP:20260424T111043
CREATED:20240116T180616Z
LAST-MODIFIED:20240123T223344Z
UID:22678-1707593400-1707606000@donnaboyle.com
SUMMARY:PHILADELPHIA DANCE CONNECTION HUSTLE PARTY DJ DONNA J BOYLE HUSTLE LESSON W/ SHRONNE 7:30PM DANCE PARTY 8:15PM TO 11PM 2084 STREET RD BENSALEM PA 19020 $15
DESCRIPTION:
URL:https://donnaboyle.com/events/philadelphia-dance-connection-hustle-party-dj-donna-j-boyle-hustle-lesson-w-shronne-730pm-dance-party-815pm-to-11pm-2084-street-rd-bensalem-pa-19020-15/
END:VEVENT
END:VCALENDAR