BEGIN:VCALENDAR
VERSION:2.0
PRODID:-//Donna Boyle - ECPv4.5.13//NONSGML v1.0//EN
CALSCALE:GREGORIAN
METHOD:PUBLISH
X-WR-CALNAME:Donna Boyle
X-ORIGINAL-URL:https://donnaboyle.com
X-WR-CALDESC:Events for Donna Boyle
BEGIN:VEVENT
DTSTART;TZID=UTC+0:20230828T080000
DTEND;TZID=UTC+0:20230828T170000
DTSTAMP:20260421T031023
CREATED:20230723T154259Z
LAST-MODIFIED:20230723T154259Z
UID:20395-1693209600-1693242000@donnaboyle.com
SUMMARY:NO HUSTLE CLASSES AT UNIVERSAL
DESCRIPTION:
URL:https://donnaboyle.com/events/no-hustle-classes-at-universal/
END:VEVENT
END:VCALENDAR