BEGIN:VCALENDAR
VERSION:2.0
PRODID:-//Donna Boyle - ECPv4.5.13//NONSGML v1.0//EN
CALSCALE:GREGORIAN
METHOD:PUBLISH
X-WR-CALNAME:Donna Boyle
X-ORIGINAL-URL:https://donnaboyle.com
X-WR-CALDESC:Events for Donna Boyle
BEGIN:VEVENT
DTSTART;TZID=UTC+0:20220829T180000
DTEND;TZID=UTC+0:20220829T200000
DTSTAMP:20260421T125051
CREATED:20220721T175109Z
LAST-MODIFIED:20220817T162122Z
UID:14166-1661796000-1661803200@donnaboyle.com
SUMMARY:6 PM BASIC HUSTLE LESSON & INTERMEDIATE HUSTLE 7PM UNIVERSAL DANCE CENTER 41 E CRESCENT AVE COLLINGSWOOD NJ INSTRUCTOR: DONNA BOYLE $12
DESCRIPTION:
URL:https://donnaboyle.com/events/no-class-at-universal-dance-center/
END:VEVENT
END:VCALENDAR