BEGIN:VCALENDAR
VERSION:2.0
PRODID:-//Donna Boyle - ECPv4.5.13//NONSGML v1.0//EN
CALSCALE:GREGORIAN
METHOD:PUBLISH
X-WR-CALNAME:Donna Boyle
X-ORIGINAL-URL:https://donnaboyle.com
X-WR-CALDESC:Events for Donna Boyle
BEGIN:VEVENT
DTSTART;TZID=UTC+0:20230812T203000
DTEND;TZID=UTC+0:20230812T203000
DTSTAMP:20260423T143529
CREATED:20230809T025511Z
LAST-MODIFIED:20230809T025511Z
UID:20629-1691872200-1691872200@donnaboyle.com
SUMMARY:DANCE PARTY AT SANTUCCI'S IN VENTNOR NJ W/ DJ DONNA J BOYLE 9:00PM TILL 1AM 6413 VENTNOR AVE\, VENTNOR NJ 08408 FOR RESERVATIONS CALL : 609 493 7202
DESCRIPTION:
URL:https://donnaboyle.com/events/dance-party-at-santuccis-in-ventnor-nj-w-dj-donna-j-boyle-900pm-till-1am-6413-ventnor-ave-ventnor-nj-08408-for-reservations-call-609-493-7202/
END:VEVENT
END:VCALENDAR