BEGIN:VCALENDAR
VERSION:2.0
PRODID:-//Donna Boyle - ECPv4.5.13//NONSGML v1.0//EN
CALSCALE:GREGORIAN
METHOD:PUBLISH
X-WR-CALNAME:Donna Boyle
X-ORIGINAL-URL:https://donnaboyle.com
X-WR-CALDESC:Events for Donna Boyle
BEGIN:VEVENT
DTSTART;TZID=UTC+0:20220911T183000
DTEND;TZID=UTC+0:20220911T220000
DTSTAMP:20260421T054217
CREATED:20220817T164027Z
LAST-MODIFIED:20220817T204549Z
UID:14760-1662921000-1662933600@donnaboyle.com
SUMMARY:Dance Haddonfield 6:00pm to 6:45pm Intermediate Hustle lesson with Donna Boyle  6:45pm t 7:30pm Beginner C 2-step lesson with Dr George Davis then 7:30pm to 10:00pm Open Ballroom Dancing Grace Church Annex 19 Kings Hwy E Haddonfield\, NJ 08033  $10 plus $5 extra for Intermediate lesson
DESCRIPTION:6:00pm to 6:45pm Intermediate lesson Hustle  Sept 4\, 11 18 & 25 \n6:45pm t 7:30pm Beginner lesson \nBeginner lesson 9-4 Waltz 9-11 Counry 2-step 9-18 East coast swing 9-25 Bolero \n \n7:00pm to 10:00pm Open Ballroom Dancing \n\nDance at Grace Church Annex\n19 Kings Hwy E\nHaddonfield\, NJ 08033\n\n\nInquiries:\npszoebisch@gmail.com\n856 462-9765\n\n
URL:https://donnaboyle.com/events/dance-haddonfield-600pm-to-645pm-intermediate-lesson-hustle-w-donna-boyle/
END:VEVENT
END:VCALENDAR