BEGIN:VCALENDAR
VERSION:2.0
PRODID:-//Donna Boyle - ECPv4.5.13//NONSGML v1.0//EN
CALSCALE:GREGORIAN
METHOD:PUBLISH
X-WR-CALNAME:Donna Boyle
X-ORIGINAL-URL:https://donnaboyle.com
X-WR-CALDESC:Events for Donna Boyle
BEGIN:VEVENT
DTSTART;TZID=UTC+0:20230816T180000
DTEND;TZID=UTC+0:20230816T200000
DTSTAMP:20260423T115941
CREATED:20230815T145036Z
LAST-MODIFIED:20230815T145036Z
UID:20747-1692208800-1692216000@donnaboyle.com
SUMMARY:City of Cape May Ballroom Dance nights with DJ Ed Wednesday\,  August 16th  6:30pm To 8:30pm Instructor Donna J Boyle Cape May Convention Hall\, 714 Beach Avenue\, Cape May\, New Jersey;
DESCRIPTION:\nCity of Cape May\n\n\nBallroom Dance nights with DJ Ed\n\n\nWednesday\, August 16th\n\n\n6:30pm To 8:30pm\n\n\nInstructor Donna J Boyle\n\n\nCape May Convention Hall\,\n\n\n714 Beach Avenue\,\n\n\nCape May\, New Jersey;\n\n
URL:https://donnaboyle.com/events/city-of-cape-may-ballroom-dance-nights-with-dj-ed-wednesday-august-16th-630pm-to-830pm-instructor-donna-j-boyle-cape-may-convention-hall-714-beach-avenue-cape-may-new-jersey/
END:VEVENT
END:VCALENDAR