BEGIN:VCALENDAR
VERSION:2.0
PRODID:-//Donna Boyle - ECPv4.5.13//NONSGML v1.0//EN
CALSCALE:GREGORIAN
METHOD:PUBLISH
X-WR-CALNAME:Donna Boyle
X-ORIGINAL-URL:https://donnaboyle.com
X-WR-CALDESC:Events for Donna Boyle
BEGIN:VEVENT
DTSTART;TZID=UTC+0:20251020T163000
DTEND;TZID=UTC+0:20251020T173000
DTSTAMP:20260420T000959
CREATED:20251021T142108Z
LAST-MODIFIED:20251021T142108Z
UID:31739-1760977800-1760981400@donnaboyle.com
SUMMARY:MAIN LINE SCHOOL NIGHT SOCIAL DANCE CLASS AT THE WILLOWS PARK / 490 DARBY PAOLI RD VILLANOVA PA 19085
DESCRIPTION:
URL:https://donnaboyle.com/events/main-line-school-night-social-dance-class-at-the-willows-park-490-darby-paoli-rd-villanova-pa-19085-3/
END:VEVENT
BEGIN:VEVENT
DTSTART;TZID=UTC+0:20251020T183000
DTEND;TZID=UTC+0:20251020T193000
DTSTAMP:20260420T000959
CREATED:20250812T171707Z
LAST-MODIFIED:20250812T171707Z
UID:30726-1760985000-1760988600@donnaboyle.com
SUMMARY:UNIVERSAL DANCE CENTER INTINTERMEDIATE HUSTLE LESSON 6:30PM 41 E CRESCENT AVE COLLINGSWOOD NJ 08103 / $12
DESCRIPTION:
URL:https://donnaboyle.com/events/universal-dance-center-intintermediate-hustle-lesson-630pm-41-e-crescent-ave-collingswood-nj-08103-12-12/
END:VEVENT
END:VCALENDAR