BEGIN:VCALENDAR
VERSION:2.0
PRODID:-//Donna Boyle - ECPv4.5.13//NONSGML v1.0//EN
CALSCALE:GREGORIAN
METHOD:PUBLISH
X-WR-CALNAME:Donna Boyle
X-ORIGINAL-URL:https://donnaboyle.com
X-WR-CALDESC:Events for Donna Boyle
BEGIN:VEVENT
DTSTART;TZID=UTC+0:20251014T180000
DTEND;TZID=UTC+0:20251014T200000
DTSTAMP:20260419T154940
CREATED:20251021T141348Z
LAST-MODIFIED:20251021T141348Z
UID:31714-1760464800-1760472000@donnaboyle.com
SUMMARY:CHELTENHAM ADULT SCHOOL LINE DANCING /BALRROOM CLASSES CALVARY PRESBYTERIAN CHURCH OF WYNCOTE 217 FERNBROOK AV WYNCOTE PA
DESCRIPTION:
URL:https://donnaboyle.com/events/cheltenham-adult-school-line-dancing-balrroom-classes-calvary-presbyterian-church-of-wyncote-217-fernbrook-av-wyncote-pa-2/
END:VEVENT
END:VCALENDAR