BEGIN:VCALENDAR
VERSION:2.0
PRODID:-//Donna Boyle - ECPv4.5.13//NONSGML v1.0//EN
CALSCALE:GREGORIAN
METHOD:PUBLISH
X-WR-CALNAME:Donna Boyle
X-ORIGINAL-URL:https://donnaboyle.com
X-WR-CALDESC:Events for Donna Boyle
BEGIN:VEVENT
DTSTART;TZID=UTC+0:20250629T143000
DTEND;TZID=UTC+0:20250629T173000
DTSTAMP:20260423T082749
CREATED:20250620T004334Z
LAST-MODIFIED:20250620T004334Z
UID:29871-1751207400-1751218200@donnaboyle.com
SUMMARY:Jersey Shore Ballroom Sunday\, June 29th\, 2025-- 2:30- 5:30pm. Hustle lesson 230pm Music & lesson by Donna Boyle /Members $15. Non-members $20. New Motion Studio in Greate Bay Racquet & Fitness Club\, 90 Mays Landing Rd\, Somers Point\, NJ.
DESCRIPTION:\n\n\n\nJersey Shore Ballroom Dance Club JSBDC \n\n\n\n\n\nPlease join us for our next dance on Sunday\, June 29th\, 2025– 2:30- 5:30pm.\nTime\, location and details:\nLocation: New Motion Studio in Greate Bay Racquet & Fitness Club\, 90 Mays Landing Rd\, Somers Point\, NJ.\nMembers $15. Non-members $20.\nLesson and music by Donna Boyle. Hustle lesson followed by open dance.\nSingles and couples are welcome. No partners necessary.\nBring a friend! Please spread the word.\nAll are welcome!\nMark your 2025 calendar:\nJuly 27- monthly dance\nAugust 31- monthly dance\nSeptember 21- monthly dance\nOctober 19- “Masquerade Ball”\, Star Band\, will be at the Flanders Hotel\, Ocean City.\nNovember 23- monthly dance\nDecember 28- monthly dance\nPlease follow us on Facebook. Hope to see you at one of our events soon!\nDance as if the music will never end and your spirit will soar!\nJersey Shore Ballroom Dance Club\nJSBDC\n________________________________\n\n
URL:https://donnaboyle.com/events/jersey-shore-ballroom-sunday-june-29th-2025-230-530pm-hustle-lesson-230pm-music-lesson-by-donna-boyle-members-15-non-members-20-new-motion-studio-in-greate-bay-racquet-fitness-club-9/
END:VEVENT
END:VCALENDAR