BEGIN:VCALENDAR
VERSION:2.0
PRODID:-//Donna Boyle - ECPv4.5.13//NONSGML v1.0//EN
CALSCALE:GREGORIAN
METHOD:PUBLISH
X-WR-CALNAME:Donna Boyle
X-ORIGINAL-URL:https://donnaboyle.com
X-WR-CALDESC:Events for Donna Boyle
BEGIN:VEVENT
DTSTART;TZID=UTC+0:20250625T193000
DTEND;TZID=UTC+0:20250625T233000
DTSTAMP:20260419T114949
CREATED:20250530T202259Z
LAST-MODIFIED:20250708T142849Z
UID:29624-1750879800-1750894200@donnaboyle.com
SUMMARY:NO PARTY TONIGHT AT COOPERS RIVERVIEW
DESCRIPTION:
URL:https://donnaboyle.com/events/730pm-hustle-lesson-at-coopers-riverview-hustle-party-800pm-to-1130pm-with-guest-djs-50-riverview-plaza-trenton-nj-08611-2/
END:VEVENT
END:VCALENDAR