BEGIN:VCALENDAR
VERSION:2.0
PRODID:-//Donna Boyle - ECPv4.5.13//NONSGML v1.0//EN
CALSCALE:GREGORIAN
METHOD:PUBLISH
X-WR-CALNAME:Donna Boyle
X-ORIGINAL-URL:https://donnaboyle.com
X-WR-CALDESC:Events for Donna Boyle
BEGIN:VEVENT
DTSTART;TZID=UTC+0:20250620T193000
DTEND;TZID=UTC+0:20250620T230000
DTSTAMP:20260419T114953
CREATED:20250530T201356Z
LAST-MODIFIED:20250530T201356Z
UID:29599-1750447800-1750460400@donnaboyle.com
SUMMARY:7:30PM TANGO LESSON WITH BILL SAPP AT THE CHURCH ON THE MALL DANCE PARTY 8:15PM TO 11:00PM W/ DJ DONNA BOYLE / PIZZA\, SNACKS\, SODA & DESSERTS $20 / 500 GERMANTOWN PIKE PLYMOUTH MEETING
DESCRIPTION:
URL:https://donnaboyle.com/events/730pm-tango-lesson-with-bill-sapp-at-the-church-on-the-mall-dance-party-815pm-to-1100pm-w-dj-donna-boyle-pizza-snacks-soda-desserts-20-500-germantown-pike-plymouth-meeting/
END:VEVENT
END:VCALENDAR