BEGIN:VCALENDAR
VERSION:2.0
PRODID:-//Donna Boyle - ECPv4.5.13//NONSGML v1.0//EN
CALSCALE:GREGORIAN
METHOD:PUBLISH
X-WR-CALNAME:Donna Boyle
X-ORIGINAL-URL:https://donnaboyle.com
X-WR-CALDESC:Events for Donna Boyle
BEGIN:VEVENT
DTSTART;TZID=UTC+0:20250606T080000
DTEND;TZID=UTC+0:20250606T170000
DTSTAMP:20260419T114917
CREATED:20250530T201231Z
LAST-MODIFIED:20250530T201231Z
UID:29602-1749196800-1749229200@donnaboyle.com
SUMMARY:NO DANCE PARTY JUNE 13 AT THE CHURCH ON THE MALL
DESCRIPTION:
URL:https://donnaboyle.com/events/no-dance-party-june-13-at-the-church-on-the-mall-2/
END:VEVENT
BEGIN:VEVENT
DTSTART;TZID=UTC+0:20250606T080000
DTEND;TZID=UTC+0:20250606T080000
DTSTAMP:20260419T114917
CREATED:20250530T202641Z
LAST-MODIFIED:20250530T202641Z
UID:29628-1749196800-1749196800@donnaboyle.com
SUMMARY:DISCO AMERICA DANCE WEEKEND JUNE 5 THRU 8 2025/ WWWDISCOAMERICA.COM / RADISSON HOTEL 2400 LINCOLN HWY TREVOSE PA
DESCRIPTION:
URL:https://donnaboyle.com/events/disco-america-dance-weekend-june-5-thru-8-2025-wwwdiscoamerica-com-radisson-hotel-2400-lincoln-hwy-trevose-pa/
END:VEVENT
END:VCALENDAR