BEGIN:VCALENDAR
VERSION:2.0
PRODID:-//Donna Boyle - ECPv4.5.13//NONSGML v1.0//EN
CALSCALE:GREGORIAN
METHOD:PUBLISH
X-WR-CALNAME:Donna Boyle
X-ORIGINAL-URL:https://donnaboyle.com
X-WR-CALDESC:Events for Donna Boyle
BEGIN:VEVENT
DTSTART;TZID=UTC+0:20240426T190000
DTEND;TZID=UTC+0:20240426T233000
DTSTAMP:20260423T082027
CREATED:20240331T155711Z
LAST-MODIFIED:20240331T155711Z
UID:23700-1714158000-1714174200@donnaboyle.com
SUMMARY:NO DANCE PARTY FRIDAY AT THE CHURCH ON THE MALL (THE PARTY IS SATURDAY APRIL 27)
DESCRIPTION:
URL:https://donnaboyle.com/events/no-dance-party-friday-at-the-church-on-the-mall-the-party-is-saturday-april-27/
END:VEVENT
END:VCALENDAR