BEGIN:VCALENDAR
VERSION:2.0
PRODID:-//Donna Boyle - ECPv4.5.13//NONSGML v1.0//EN
CALSCALE:GREGORIAN
METHOD:PUBLISH
X-WR-CALNAME:Donna Boyle
X-ORIGINAL-URL:https://donnaboyle.com
X-WR-CALDESC:Events for Donna Boyle
BEGIN:VEVENT
DTSTART;TZID=UTC+0:20231222T080000
DTEND;TZID=UTC+0:20240214T170000
DTSTAMP:20260424T084148
CREATED:20231029T154002Z
LAST-MODIFIED:20231029T154002Z
UID:21763-1703232000-1707930000@donnaboyle.com
SUMMARY:NO EVENTS
DESCRIPTION:
URL:https://donnaboyle.com/events/no-events-3/
END:VEVENT
BEGIN:VEVENT
DTSTART;TZID=UTC+0:20240212T173000
DTEND;TZID=UTC+0:20240212T183000
DTSTAMP:20260424T084148
CREATED:20240123T223605Z
LAST-MODIFIED:20240123T223605Z
UID:22788-1707759000-1707762600@donnaboyle.com
SUMMARY:UNIVERSAL DANCE CENTER HUSTLE LESSONS $12 545PM BASIC LESSON 41 E CRESCENT AVE COLLINGSWOOD NJ
DESCRIPTION:
URL:https://donnaboyle.com/events/universal-dance-center-hustle-lessons-12-545pm-basic-lesson-41-e-crescent-ave-collingswood-nj-2/
END:VEVENT
END:VCALENDAR