BEGIN:VCALENDAR
VERSION:2.0
PRODID:-//Donna Boyle - ECPv4.5.13//NONSGML v1.0//EN
CALSCALE:GREGORIAN
METHOD:PUBLISH
X-WR-CALNAME:Donna Boyle
X-ORIGINAL-URL:http://donnaboyle.com
X-WR-CALDESC:Events for Donna Boyle
BEGIN:VEVENT
DTSTART;TZID=UTC+0:20190422T183000
DTEND;TZID=UTC+0:20190422T193000
DTSTAMP:20260424T162010
CREATED:20190404T140131Z
LAST-MODIFIED:20190404T140131Z
UID:2213-1555957800-1555961400@donnaboyle.com
SUMMARY:UNIVERSAL DANCE CENTER – MONDAY HUSTLE CLASS 6:45PM $12 41 E CRESCENT AVE COLLINGSWOOD NJ (HADDON AVE & ROUTE 130 INSTRUCTOR: DONNA BOYL
DESCRIPTION:
URL:http://donnaboyle.com/events/universal-dance-center-monday-hustle-class-645pm-12-41-e-crescent-ave-collingswood-nj-haddon-ave-route-130-instructor-donna-boyl-9/
END:VEVENT
END:VCALENDAR