BEGIN:VCALENDAR
VERSION:2.0
PRODID:-//Donna Boyle - ECPv4.5.13//NONSGML v1.0//EN
CALSCALE:GREGORIAN
METHOD:PUBLISH
X-WR-CALNAME:Donna Boyle
X-ORIGINAL-URL:http://donnaboyle.com
X-WR-CALDESC:Events for Donna Boyle
BEGIN:VEVENT
DTSTART;TZID=UTC+0:20210809T190000
DTEND;TZID=UTC+0:20210809T200000
DTSTAMP:20260424T093159
CREATED:20210802T185706Z
LAST-MODIFIED:20210802T185730Z
UID:8107-1628535600-1628539200@donnaboyle.com
SUMMARY:UNIVERSAL DANCE CENTER –INTERMEDIATE HUSTLE CLASS 41 E CRESCENT AVE COLLINGSWOOD NJ INSTRUCTOR: DONNA BOYLE $12
DESCRIPTION:
URL:http://donnaboyle.com/events/universal-dance-center-intermediate-hustle-class-41-e-crescent-ave-collingswood-nj-instructor-donna-boyle-12-3/
CATEGORIES:Hustle
END:VEVENT
END:VCALENDAR