BEGIN:VCALENDAR
VERSION:2.0
PRODID:-//Donna Boyle - ECPv4.5.13//NONSGML v1.0//EN
CALSCALE:GREGORIAN
METHOD:PUBLISH
X-WR-CALNAME:Donna Boyle
X-ORIGINAL-URL:http://donnaboyle.com
X-WR-CALDESC:Events for Donna Boyle
BEGIN:VEVENT
DTSTART;TZID=UTC+0:20230214T163000
DTEND;TZID=UTC+0:20230214T173000
DTSTAMP:20260424T224854
CREATED:20221215T161211Z
LAST-MODIFIED:20221215T161211Z
UID:17108-1676392200-1676395800@donnaboyle.com
SUMMARY:TEMPLE UNIVERSITY LATIN & SWING DANCE CLASS W/ DONNA BOYLE 4:30PM TO 5:30PM MITTEN HALL
DESCRIPTION:
URL:http://donnaboyle.com/events/temple-university-latin-swing-dance-class-w-donna-boyle-430pm-to-530pm-mitten-hall/
END:VEVENT
END:VCALENDAR