BEGIN:VCALENDAR
VERSION:2.0
PRODID:-//Donna Boyle - ECPv4.5.13//NONSGML v1.0//EN
CALSCALE:GREGORIAN
METHOD:PUBLISH
X-WR-CALNAME:Donna Boyle
X-ORIGINAL-URL:http://donnaboyle.com
X-WR-CALDESC:Events for Donna Boyle
BEGIN:VEVENT
DTSTART;TZID=UTC+0:20190413T020000
DTEND;TZID=UTC+0:20190413T233000
DTSTAMP:20260424T212118
CREATED:20181211T183839Z
LAST-MODIFIED:20190404T135648Z
UID:1950-1555120800-1555198200@donnaboyle.com
SUMMARY:VFW 645 LOUIS DR WARMINSTER PA 3PM HUSTLE JAMIE SERNA 4PM WCS W/ ERICA SMITH 5PM HUSTLE WITH ERICA SMITH 6PM HUSTLE W/ RON & DONNA WORKSHOPS AND PARTY 3PM TO 12AM ALL DAY EVENT HOSTED BY DONNA BOYLE & RON BESS
DESCRIPTION:
URL:http://donnaboyle.com/events/save-the-date-april-13th-saturday-all-day-event-hosted-by-donna-boyle-ron-bess-workshops-during-the-day-and-dance-party-at-night/
END:VEVENT
END:VCALENDAR