BEGIN:VCALENDAR
VERSION:2.0
PRODID:-//Donna Boyle - ECPv4.5.13//NONSGML v1.0//EN
CALSCALE:GREGORIAN
METHOD:PUBLISH
X-WR-CALNAME:Donna Boyle
X-ORIGINAL-URL:http://donnaboyle.com
X-WR-CALDESC:Events for Donna Boyle
BEGIN:VEVENT
DTSTART;TZID=UTC+0:20210816T080000
DTEND;TZID=UTC+0:20210816T170000
DTSTAMP:20260424T103439
CREATED:20210816T163906Z
LAST-MODIFIED:20210816T163906Z
UID:8254-1629100800-1629133200@donnaboyle.com
SUMMARY:NO HUSTLE CLASS AUGUST 16 AT UNIVERSAL DANCE CENTER
DESCRIPTION:
URL:http://donnaboyle.com/events/no-hustle-class-august-16-at-universal-dance-center/
END:VEVENT
END:VCALENDAR