BEGIN:VCALENDAR
VERSION:2.0
PRODID:-//Donna Boyle - ECPv4.5.13//NONSGML v1.0//EN
CALSCALE:GREGORIAN
METHOD:PUBLISH
X-WR-CALNAME:Donna Boyle
X-ORIGINAL-URL:http://donnaboyle.com
X-WR-CALDESC:Events for Donna Boyle
BEGIN:VEVENT
DTSTART;TZID=UTC+0:20230217T193000
DTEND;TZID=UTC+0:20230217T230000
DTSTAMP:20260424T213737
CREATED:20230115T202746Z
LAST-MODIFIED:20230216T123439Z
UID:17656-1676662200-1676674800@donnaboyle.com
SUMMARY:ECS LESSON 7:30PM BALLROOM DANCE PARTY AT 8:30PM WITH DONNA BOYLE AT CHURCH ON THE MALL 500 GERMANTOWN PIKE PLYMOUTH MEETING PA DANCE PARTY AT 8:30PM
DESCRIPTION:
URL:http://donnaboyle.com/events/lesson-730pm-ballroom-dance-party-at-830pm-with-donna-boyle-at-church-on-the-mall-500-germantown-pike-plymouth-meeting-pa-dance-party-at-830pm-4/
END:VEVENT
END:VCALENDAR