BEGIN:VCALENDAR
VERSION:2.0
PRODID:-//Donna Boyle - ECPv4.5.13//NONSGML v1.0//EN
CALSCALE:GREGORIAN
METHOD:PUBLISH
X-WR-CALNAME:Donna Boyle
X-ORIGINAL-URL:http://donnaboyle.com
X-WR-CALDESC:Events for Donna Boyle
BEGIN:VEVENT
DTSTART;TZID=UTC+0:20221011T190000
DTEND;TZID=UTC+0:20221011T200000
DTSTAMP:20260419T183136
CREATED:20220831T134212Z
LAST-MODIFIED:20220831T134212Z
UID:14981-1665514800-1665518400@donnaboyle.com
SUMMARY:LATIN & BALLROOM LESSON 7PM CHELTENHAM ADULT SCHOOL TO REGISTER CALL 215-887-1720 CALVARY PRESBYTERIAN CHURCH 217 FERNBROOK AVE WYNCOTE PA AT CALVARY PRESBYTERIAN CHURCH 217 FERNBROOK AVE WYNCOTE PA
DESCRIPTION:
URL:http://donnaboyle.com/events/latin-ballroom-lesson-7pm-cheltenham-adult-school-to-register-call-215-887-1720-calvary-presbyterian-church-217-fernbrook-ave-wyncote-pa-at-calvary-presbyterian-church-217-fernbrook-ave-wyncote-pa-2/
END:VEVENT
END:VCALENDAR