BEGIN:VCALENDAR
VERSION:2.0
PRODID:-//Donna Boyle - ECPv4.5.13//NONSGML v1.0//EN
CALSCALE:GREGORIAN
METHOD:PUBLISH
X-WR-CALNAME:Donna Boyle
X-ORIGINAL-URL:http://donnaboyle.com
X-WR-CALDESC:Events for Donna Boyle
BEGIN:VEVENT
DTSTART;TZID=UTC+0:20191023T170000
DTEND;TZID=UTC+0:20191023T233000
DTSTAMP:20260426T042321
CREATED:20191008T180046Z
LAST-MODIFIED:20191020T154526Z
UID:2774-1571850000-1571873400@donnaboyle.com
SUMMARY:Int Hustle Lesson at 7:30pm $12 at Brady's Hustle Music 9pm till 11:30pm  Wyndham Hotel 4700 E Street Rd Trevose PA 19053
DESCRIPTION:WEDNESDAY NIGHT FEVER AT BRADY’S \nInt Hustle Lesson at 7:30pm $12  \nat Brady’s Hustle Music 9pm till 11:30pm \nWyndham Hotel 4700 E Street Rd Trevose PA 19053 \n
URL:http://donnaboyle.com/events/int-hustle-lesson-at-730pm-12-at-bradys-hustle-music-9pm-till-1130pm-oldies-with-the-geator-5-to-9pm-wyndham-hotel-4700-e-street-rd-trevose-pa-19053/
END:VEVENT
END:VCALENDAR