BEGIN:VCALENDAR
VERSION:2.0
PRODID:-//Donna Boyle - ECPv4.5.13//NONSGML v1.0//EN
CALSCALE:GREGORIAN
METHOD:PUBLISH
X-WR-CALNAME:Donna Boyle
X-ORIGINAL-URL:http://donnaboyle.com
X-WR-CALDESC:Events for Donna Boyle
BEGIN:VEVENT
DTSTART;TZID=UTC+0:20190409T193000
DTEND;TZID=UTC+0:20190409T223000
DTSTAMP:20260425T011013
CREATED:20181120T164220Z
LAST-MODIFIED:20190404T135957Z
UID:1905-1554838200-1554849000@donnaboyle.com
SUMMARY:Hustle Lesson at Allentown Swing Dance Society DJ Donna Boyle Fearless Fire Hall Starlight Ballroom 1221 S Front St Allentown Pa 18103
DESCRIPTION:
URL:http://donnaboyle.com/events/hustle-lesson-at-allentown-swing-dance-society-dj-donna-boyle-fearless-fire-hall-starlight-ballroom-1221-s-front-st-allentown-pa-18103-3/
END:VEVENT
END:VCALENDAR