BEGIN:VCALENDAR
VERSION:2.0
PRODID:-//Donna Boyle - ECPv4.5.13//NONSGML v1.0//EN
CALSCALE:GREGORIAN
METHOD:PUBLISH
X-WR-CALNAME:Donna Boyle
X-ORIGINAL-URL:http://donnaboyle.com
X-WR-CALDESC:Events for Donna Boyle
BEGIN:VEVENT
DTSTART;TZID=UTC+0:20190904T193000
DTEND;TZID=UTC+0:20190904T233000
DTSTAMP:20260422T175504
CREATED:20190805T183645Z
LAST-MODIFIED:20190903T192619Z
UID:2582-1567625400-1567639800@donnaboyle.com
SUMMARY:NO BEAT STREET IN SEPTEMBER
DESCRIPTION:
URL:http://donnaboyle.com/events/dance-party-at-beat-street-77-buck-rd-huntingdon-valley-pa-730pm-hustle-lesson-music-and-dancing-with-dj-mark-800pm-to-1130pm-4/
END:VEVENT
END:VCALENDAR