BEGIN:VCALENDAR
VERSION:2.0
PRODID:-//Donna Boyle - ECPv4.5.13//NONSGML v1.0//EN
CALSCALE:GREGORIAN
METHOD:PUBLISH
X-WR-CALNAME:Donna Boyle
X-ORIGINAL-URL:http://donnaboyle.com
X-WR-CALDESC:Events for Donna Boyle
BEGIN:VEVENT
DTSTART;TZID=UTC+0:20190501T193000
DTEND;TZID=UTC+0:20190501T233000
DTSTAMP:20260424T095633
CREATED:20190428T160401Z
LAST-MODIFIED:20190428T160401Z
UID:2295-1556739000-1556753400@donnaboyle.com
SUMMARY:DANCE PARTY AT BEAT STREET 77 BUCK RD HUNTINGDON VALLEY PA 7:30PM HUSTLE LESSON MUSIC AND DANCING WITH DJ MARK 8:00PM TO 11:30PM
DESCRIPTION:
URL:http://donnaboyle.com/events/dance-party-at-beat-street-77-buck-rd-huntingdon-valley-pa-730pm-hustle-lesson-music-and-dancing-with-dj-mark-800pm-to-1130pm-2/
END:VEVENT
END:VCALENDAR