BEGIN:VCALENDAR
VERSION:2.0
PRODID:-//Donna Boyle - ECPv4.5.13//NONSGML v1.0//EN
CALSCALE:GREGORIAN
METHOD:PUBLISH
X-WR-CALNAME:Donna Boyle
X-ORIGINAL-URL:http://donnaboyle.com
X-WR-CALDESC:Events for Donna Boyle
BEGIN:VEVENT
DTSTART;TZID=UTC+0:20210829T180000
DTEND;TZID=UTC+0:20210829T200000
DTSTAMP:20260424T095548
CREATED:20210816T165413Z
LAST-MODIFIED:20210825T182346Z
UID:8263-1630260000-1630267200@donnaboyle.com
SUMMARY:NO CLASS AT CORNERSTONE FITNESS 1201 NEW RD LINWOOD NJ 08221
DESCRIPTION:
URL:http://donnaboyle.com/events/cornerstone-fitness-1201-new-rd-linwood-nj-08221-600pm-west-coast-swing-12-645pm-hustle-12-instructor-donna-boyle-2/
END:VEVENT
END:VCALENDAR