BEGIN:VCALENDAR
VERSION:2.0
PRODID:-//Donna Boyle - ECPv4.5.13//NONSGML v1.0//EN
CALSCALE:GREGORIAN
METHOD:PUBLISH
X-WR-CALNAME:Donna Boyle
X-ORIGINAL-URL:http://donnaboyle.com
X-WR-CALDESC:Events for Donna Boyle
BEGIN:VEVENT
DTSTART;TZID=UTC+0:20210823T190000
DTEND;TZID=UTC+0:20210823T200000
DTSTAMP:20260424T082740
CREATED:20210825T181719Z
LAST-MODIFIED:20210825T181719Z
UID:8363-1629745200-1629748800@donnaboyle.com
SUMMARY:UNIVERSAL DANCE CENTER –7PM INTERMEDIATE HUSTLE CLASS $12 & PARTY $10 41 E CRESCENT AVE COLLINGSWOOD NJ INSTRUCTOR: DONNA BOYLE
DESCRIPTION:
URL:http://donnaboyle.com/events/universal-dance-center-7pm-intermediate-hustle-class-12-party-10-41-e-crescent-ave-collingswood-nj-instructor-donna-boyle/
CATEGORIES:Hustle
END:VEVENT
END:VCALENDAR