BEGIN:VCALENDAR
VERSION:2.0
PRODID:-//Donna Boyle - ECPv4.5.13//NONSGML v1.0//EN
CALSCALE:GREGORIAN
METHOD:PUBLISH
X-WR-CALNAME:Donna Boyle
X-ORIGINAL-URL:http://donnaboyle.com
X-WR-CALDESC:Events for Donna Boyle
BEGIN:VEVENT
DTSTART;TZID=UTC+0:20190901T180000
DTEND;TZID=UTC+0:20190901T200000
DTSTAMP:20260422T153709
CREATED:20190828T155508Z
LAST-MODIFIED:20190828T155508Z
UID:2636-1567360800-1567368000@donnaboyle.com
SUMMARY:BODY IN BALANCE 315 CENTRAL AVE LINWOOD NJ WEST COAST SWING 6:15PM HUSTLE 7:00PM INSTRUCTOR: DONNA BOYLE
DESCRIPTION:
URL:http://donnaboyle.com/events/body-in-balance-315-central-ave-linwood-nj-west-coast-swing-615pm-hustle-700pm-instructor-donna-boyle-37/
END:VEVENT
END:VCALENDAR