BEGIN:VCALENDAR
VERSION:2.0
PRODID:-//Donna Boyle - ECPv4.5.13//NONSGML v1.0//EN
CALSCALE:GREGORIAN
METHOD:PUBLISH
X-WR-CALNAME:Donna Boyle
X-ORIGINAL-URL:http://donnaboyle.com
X-WR-CALDESC:Events for Donna Boyle
BEGIN:VEVENT
DTSTART;TZID=UTC+0:20210805T190000
DTEND;TZID=UTC+0:20210805T230000
DTSTAMP:20260424T105151
CREATED:20210802T185158Z
LAST-MODIFIED:20210825T182604Z
UID:8102-1628190000-1628204400@donnaboyle.com
SUMMARY:Atrium Cali Mix Thursday Aug 5th 7:00pm West Coast Swing Lesson  7:30pm DJ Donna J Boyle
DESCRIPTION:
URL:http://donnaboyle.com/events/atrium-cali-mix-thursday-aug-5th-700pm-west-coast-swing-lesson-730pm-dj-donna-j-boyle/
CATEGORIES:Dance Party
END:VEVENT
END:VCALENDAR