BEGIN:VCALENDAR
VERSION:2.0
PRODID:-//Donna Boyle - ECPv4.5.13//NONSGML v1.0//EN
CALSCALE:GREGORIAN
METHOD:PUBLISH
X-WR-CALNAME:Donna Boyle
X-ORIGINAL-URL:http://donnaboyle.com
X-WR-CALDESC:Events for Donna Boyle
BEGIN:VEVENT
DTSTART;TZID=UTC+0:20210701T190000
DTEND;TZID=UTC+0:20210701T223000
DTSTAMP:20260424T120600
CREATED:20210626T191133Z
LAST-MODIFIED:20210626T191133Z
UID:7731-1625166000-1625178600@donnaboyle.com
SUMMARY:Atrium Cali Mix 1st & 3rd Thursday 7pm Lesson 7:30pm DJ Gerry Levin
DESCRIPTION:
URL:http://donnaboyle.com/events/atrium-cali-mix-1st-3rd-thursday-7pm-lesson-730pm-dj-gerry-levin/
END:VEVENT
END:VCALENDAR