BEGIN:VCALENDAR
VERSION:2.0
PRODID:-//Donna Boyle - ECPv4.5.13//NONSGML v1.0//EN
CALSCALE:GREGORIAN
METHOD:PUBLISH
X-WR-CALNAME:Donna Boyle
X-ORIGINAL-URL:http://donnaboyle.com
X-WR-CALDESC:Events for Donna Boyle
BEGIN:VEVENT
DTSTART;TZID=UTC+0:20210715T190000
DTEND;TZID=UTC+0:20210715T223000
DTSTAMP:20260424T105013
CREATED:20210626T191343Z
LAST-MODIFIED:20210626T191343Z
UID:7732-1626375600-1626388200@donnaboyle.com
SUMMARY:Atrium Cali Mix 1st & 3rd Thursday 7pm Lesson 7:30pm DJ Donna J Boylein
DESCRIPTION:
URL:http://donnaboyle.com/events/atrium-cali-mix-1st-3rd-thursday-7pm-lesson-730pm-dj-donna-j-boylein/
END:VEVENT
END:VCALENDAR