BEGIN:VCALENDAR
VERSION:2.0
PRODID:-//Donna Boyle - ECPv4.5.13//NONSGML v1.0//EN
CALSCALE:GREGORIAN
METHOD:PUBLISH
X-WR-CALNAME:Donna Boyle
X-ORIGINAL-URL:http://donnaboyle.com
X-WR-CALDESC:Events for Donna Boyle
BEGIN:VEVENT
DTSTART;TZID=UTC+0:20260407T180000
DTEND;TZID=UTC+0:20260407T200000
DTSTAMP:20260420T074911
CREATED:20260125T182335Z
LAST-MODIFIED:20260125T182622Z
UID:86094-1775584800-1775592000@donnaboyle.com
SUMMARY:CHELTENHAM ADULT SCHOOL LINE DANCING /BALLROOM CLASSES CALVARY PRESBYTERIAN CHURCH OF WYNCOTE 217 FERNBROOK AV WYNCOTE PA
DESCRIPTION:
URL:http://donnaboyle.com/events/cheltenham-adult-school-line-dancing-ballroom-classes-calvary-presbyterian-church-of-wyncote-217-fernbrook-av-wyncote-pa-3/
END:VEVENT
BEGIN:VEVENT
DTSTART;TZID=UTC+0:20260407T180000
DTEND;TZID=UTC+0:20260407T200000
DTSTAMP:20260420T074911
CREATED:20260126T195349Z
LAST-MODIFIED:20260126T195843Z
UID:87255-1775584800-1775592000@donnaboyle.com
SUMMARY:CHELTENHAM ADULT SCHOOL LINE DANCING /BALLROOM CLASSES CALVARY PRESBYTERIAN CHURCH OF WYNCOTE 217 FERNBROOK AV WYNCOTE PA
DESCRIPTION:
URL:http://donnaboyle.com/events/heltenham-adult-school-line-dancing-ballroom-classes-calvary-presbyterian-church-of-wyncote-217-fernbrook-av-wyncote-pa-2/
END:VEVENT
END:VCALENDAR