BEGIN:VCALENDAR
VERSION:2.0
PRODID:-//Donna Boyle - ECPv4.5.13//NONSGML v1.0//EN
CALSCALE:GREGORIAN
METHOD:PUBLISH
X-WR-CALNAME:Donna Boyle
X-ORIGINAL-URL:http://donnaboyle.com
X-WR-CALDESC:Events for Donna Boyle
BEGIN:VEVENT
DTSTART;TZID=UTC+0:20251220T193000
DTEND;TZID=UTC+0:20251220T193000
DTSTAMP:20260421T110044
CREATED:20250925T155040Z
LAST-MODIFIED:20251227T172934Z
UID:31398-1766259000-1766259000@donnaboyle.com
SUMMARY:HOLIDAY SPECTACULAR BALLROOM SATURDAY DECEMBER 20 RON & DONNA HUSTLE PARTY LOCATION: BALLROOM DREAM STUDIO 7:30PM HUSTLE LESSON 8:00PM HUSTLE MUSIC WITH DJ CESAR CAB
DESCRIPTION:
URL:http://donnaboyle.com/events/holiday-spectacular-ballroom-saturday-december-20-ron-donna-present-the-32nd-annual-hustle-party-for-the-holidays-d-queen-of-hustle-contest-dessert-table-dance-lesson-2024-super-hero-award-door/
END:VEVENT
END:VCALENDAR