BEGIN:VCALENDAR
VERSION:2.0
PRODID:-//Donna Boyle - ECPv4.5.13//NONSGML v1.0//EN
CALSCALE:GREGORIAN
METHOD:PUBLISH
X-WR-CALNAME:Donna Boyle
X-ORIGINAL-URL:http://donnaboyle.com
X-WR-CALDESC:Events for Donna Boyle
BEGIN:VEVENT
DTSTART;TZID=UTC+0:20251219T193000
DTEND;TZID=UTC+0:20251219T230000
DTSTAMP:20260421T110042
CREATED:20250925T154817Z
LAST-MODIFIED:20251106T134832Z
UID:31394-1766172600-1766185200@donnaboyle.com
SUMMARY:HUSTLE LESSON WITH GUSTAVO RUEDA & HOLIDAY BALLROOM DANCE PARTY AT THE CHURCH ON THE MALL DANCE PARTY 8:15PM TO 11:00PM W/ DJ DONNA BOYLE / PIZZA\, SNACKS\, SODA & DESSERTS $20 / 500 GERMANTOWN PIKE PLYMOUTH MEETING
DESCRIPTION:
URL:http://donnaboyle.com/events/holiday-ballroom-party-at-the-church-on-the-mall-dance-party-815pm-to-1100pm-w-dj-donna-boyle-pizza-snacks-soda-desserts-20-500-germantown-pike-plymouth-meeting/
END:VEVENT
END:VCALENDAR