BEGIN:VCALENDAR
VERSION:2.0
PRODID:-//Donna Boyle - ECPv4.5.13//NONSGML v1.0//EN
CALSCALE:GREGORIAN
METHOD:PUBLISH
X-WR-CALNAME:Donna Boyle
X-ORIGINAL-URL:http://donnaboyle.com
X-WR-CALDESC:Events for Donna Boyle
BEGIN:VEVENT
DTSTART;TZID=UTC+0:20251215T183000
DTEND;TZID=UTC+0:20251215T193000
DTSTAMP:20260421T110211
CREATED:20251021T140606Z
LAST-MODIFIED:20251227T171230Z
UID:31696-1765823400-1765827000@donnaboyle.com
SUMMARY:NO HUSTLE CLASS TONIGHT AT UNIVERSAL DANCE CENTER
DESCRIPTION:
URL:http://donnaboyle.com/events/universal-dance-center-intintermediate-hustle-lesson-630pm-41-e-crescent-ave-collingswood-nj-08103-12-20/
END:VEVENT
END:VCALENDAR