BEGIN:VCALENDAR
VERSION:2.0
PRODID:-//Donna Boyle - ECPv4.5.13//NONSGML v1.0//EN
CALSCALE:GREGORIAN
METHOD:PUBLISH
X-WR-CALNAME:Donna Boyle
X-ORIGINAL-URL:http://donnaboyle.com
X-WR-CALDESC:Events for Donna Boyle
BEGIN:VEVENT
DTSTART;TZID=UTC+0:20251117T163000
DTEND;TZID=UTC+0:20251117T173000
DTSTAMP:20260421T121011
CREATED:20251021T142305Z
LAST-MODIFIED:20251021T142305Z
UID:31748-1763397000-1763400600@donnaboyle.com
SUMMARY:MAIN LINE SCHOOL NIGHT SWING DANCE CLASS AT THE WILLOWS PARK / 490 DARBY PAOLI RD VILLANOVA PA 19085
DESCRIPTION:
URL:http://donnaboyle.com/events/main-line-school-night-swing-dance-class-at-the-willows-park-490-darby-paoli-rd-villanova-pa-19085/
END:VEVENT
BEGIN:VEVENT
DTSTART;TZID=UTC+0:20251117T183000
DTEND;TZID=UTC+0:20251117T193000
DTSTAMP:20260421T121011
CREATED:20250812T174430Z
LAST-MODIFIED:20250812T174430Z
UID:30790-1763404200-1763407800@donnaboyle.com
SUMMARY:UNIVERSAL DANCE CENTER INTINTERMEDIATE HUSTLE LESSON 6:30PM 41 E CRESCENT AVE COLLINGSWOOD NJ 08103 / $12
DESCRIPTION:
URL:http://donnaboyle.com/events/universal-dance-center-intintermediate-hustle-lesson-630pm-41-e-crescent-ave-collingswood-nj-08103-12-15/
END:VEVENT
END:VCALENDAR