BEGIN:VCALENDAR
VERSION:2.0
PRODID:-//Donna Boyle - ECPv4.5.13//NONSGML v1.0//EN
CALSCALE:GREGORIAN
METHOD:PUBLISH
X-WR-CALNAME:Donna Boyle
X-ORIGINAL-URL:http://donnaboyle.com
X-WR-CALDESC:Events for Donna Boyle
BEGIN:VEVENT
DTSTART;TZID=UTC+0:20251108T200000
DTEND;TZID=UTC+0:20251108T200000
DTSTAMP:20260421T121122
CREATED:20251021T144238Z
LAST-MODIFIED:20251021T144238Z
UID:31759-1762632000-1762632000@donnaboyle.com
SUMMARY:PHILADELPHIA DANCE CONNECTION HUSTLE PARTY /HUSTLE LESSON W/ SHARONNE 8:15PM DANCE PARTY W/DJ DONNA BOYLE 9PM TO 12AM FREE PIZZA \,SNACKS & BEVERAGES 2084 STREET RD BENSALEM PA 19020 WWW.PHILADELPHIADANCECONNECTION.COM
DESCRIPTION:PHILADELPHIA DANCE CONNECTION HUSTLE PARTY /HUSTLE LESSON W/ SHARONNE 8:15PM \nDANCE PARTY W/DJ DONNA BOYLE 9PM TO 12AM \nFREE PIZZA \,SNACKS & BEVERAGES 2084 STREET RD BENSALEM PA 19020 \nWWW.PHILADELPHIADANCECONNECTION.COM \n
URL:http://donnaboyle.com/events/philadelphia-dance-connection-hustle-party-hustle-lesson-w-sharonne-815pm-dance-party-w-dj-donna-boyle-9pm-to-12am-free-pizza-snacks-beverages-2084-street-rd-bensalem-pa-19020-www-philadelphiada/
END:VEVENT
END:VCALENDAR