BEGIN:VCALENDAR
VERSION:2.0
PRODID:-//Donna Boyle - ECPv4.5.13//NONSGML v1.0//EN
CALSCALE:GREGORIAN
METHOD:PUBLISH
X-WR-CALNAME:Donna Boyle
X-ORIGINAL-URL:http://donnaboyle.com
X-WR-CALDESC:Events for Donna Boyle
BEGIN:VEVENT
DTSTART;TZID=UTC+0:20251105T170000
DTEND;TZID=UTC+0:20251105T180000
DTSTAMP:20260421T122155
CREATED:20251021T141102Z
LAST-MODIFIED:20251021T141102Z
UID:31710-1762362000-1762365600@donnaboyle.com
SUMMARY:TEMPLE UNIVERSITY DANCE MOVES 5PM TO 6PM MITTEN HALL BR\, LATIN\, SWING & HUSTLE / DANCEMOV@TEMPLE.EDU
DESCRIPTION:
URL:http://donnaboyle.com/events/temple-university-dance-moves-5pm-to-6pm-mitten-hall-br-latin-swing-hustle-dancemovtemple-edu-3/
END:VEVENT
BEGIN:VEVENT
DTSTART;TZID=UTC+0:20251105T193000
DTEND;TZID=UTC+0:20251105T233000
DTSTAMP:20260421T122155
CREATED:20250812T174628Z
LAST-MODIFIED:20251106T134457Z
UID:30794-1762371000-1762385400@donnaboyle.com
SUMMARY:NO COOPERS RIVERVIEW PARTY TONIGHT
DESCRIPTION:
URL:http://donnaboyle.com/events/730pm-hustle-lesson-at-coopers-riverview-hustle-party-800pm-to-1130pm-with-guest-djs-50-riverview-plaza-trenton-nj-08611-13/
END:VEVENT
END:VCALENDAR