BEGIN:VCALENDAR
VERSION:2.0
PRODID:-//Donna Boyle - ECPv4.5.13//NONSGML v1.0//EN
CALSCALE:GREGORIAN
METHOD:PUBLISH
X-WR-CALNAME:Donna Boyle
X-ORIGINAL-URL:http://donnaboyle.com
X-WR-CALDESC:Events for Donna Boyle
BEGIN:VEVENT
DTSTART;TZID=UTC+0:20251031T193000
DTEND;TZID=UTC+0:20251031T230000
DTSTAMP:20260421T122257
CREATED:20250812T173031Z
LAST-MODIFIED:20251021T142816Z
UID:30758-1761939000-1761951600@donnaboyle.com
SUMMARY:HALLOWEEN PARTY AND 7:30PM BARN DANCE LESSON AT THE CHURCH ON THE MALL DANCE PARTY 8:15PM TO 11:00PM W/ DJ DONNA BOYLE / PIZZA\, SNACKS\, SODA & DESSERTS $20 / 500 GERMANTOWN PIKE PLYMOUTH MEETING
DESCRIPTION:
URL:http://donnaboyle.com/events/halloween-party-and-730pm-dance-lesson-at-the-church-on-the-mall-dance-party-815pm-to-1100pm-w-dj-donna-boyle-pizza-snacks-soda-desserts-20-500-germantown-pike-plymouth-meeting/
END:VEVENT
END:VCALENDAR