BEGIN:VCALENDAR
VERSION:2.0
PRODID:-//Donna Boyle - ECPv4.5.13//NONSGML v1.0//EN
CALSCALE:GREGORIAN
METHOD:PUBLISH
X-WR-CALNAME:Donna Boyle
X-ORIGINAL-URL:http://donnaboyle.com
X-WR-CALDESC:Events for Donna Boyle
BEGIN:VEVENT
DTSTART;TZID=UTC+0:20220618T190000
DTEND;TZID=UTC+0:20220618T230000
DTSTAMP:20260420T092803
CREATED:20220618T150655Z
LAST-MODIFIED:20220618T150655Z
UID:13298-1655578800-1655593200@donnaboyle.com
SUMMARY:No Name Dance: Hustle lesson June 18 @ 7:00 PM - 11:00 PM $15 Social Dance: 8:00 – 11:00 PM DJ: Donna J Boyle Suzanne Patterson Center (GPS: 1 Monument Dr.) 45 Stockton Street Princeton\, NJ 08540
DESCRIPTION:\n\n\n\n\n\n\n\n\n\n\n\n\n\n\n\n\n\n\n\n\n\n\n\n\n\n\n\n\n\n\n\n\n\n\n\n\n\n\n\n\n\n\n\n\n\n\n\n\n\n\n\n\n\n\n\n\n\n\n\n\n\n\nNo Name Dance: Donna J Boyle Teaches Hustle!\nJune 18 @ 7:00 PM – 11:00 PM $15\nSocial Dance: 8:00 – 11:00 PM DJ: Donna J Boyle\n\n\nLesson: Hustle (beginner/intermediate) 7:00 – 8:00 PM\nInstructor: Donna Boyle\nSocial Dance: 8:00 – 11:00 PM\nDJ: Donna Boyle\nCost: $15 per adult / $10 per student (full time students only; must present ID)\nDancers are encouraged to bring their own bottles of water; free parking; no partner needed. Friendly atmosphere\, and a great dance floor with high ceilings and upgraded ventilation with high efficiency filters. Dress comfortably or dress to impress!\nVenue\nSuzanne Patterson Center (GPS: 1 Monument Dr.)\n45 Stockton Street\nPrinceton\, NJ 08540\n\n\n\n\n\n\n\n\n\n\n\n\n\n\n\n\n\n\n
URL:http://donnaboyle.com/events/no-name-dance-hustle-lesson-june-18-700-pm-1100-pm-15-social-dance-800-1100-pm-dj-donna-j-boyle-suzanne-patterson-center-gps-1-monument-dr-45-stockton-street-princeton-nj-08/
END:VEVENT
END:VCALENDAR