BEGIN:VCALENDAR
VERSION:2.0
PRODID:-//Donna Boyle - ECPv4.5.13//NONSGML v1.0//EN
CALSCALE:GREGORIAN
METHOD:PUBLISH
X-WR-CALNAME:Donna Boyle
X-ORIGINAL-URL:http://donnaboyle.com
X-WR-CALDESC:Events for Donna Boyle
BEGIN:VEVENT
DTSTART;TZID=UTC+0:20210930T190000
DTEND;TZID=UTC+0:20210930T230000
DTSTAMP:20260424T033355
CREATED:20210816T163200Z
LAST-MODIFIED:20210930T190714Z
UID:8251-1633028400-1633042800@donnaboyle.com
SUMMARY:Every Thursday Atrium Cali Mix 7:00pm  WCS Lesson  DJ Donna J Boyle 7:30pm Cali Mix
DESCRIPTION:
URL:http://donnaboyle.com/events/every-thursday-atrium-cali-mix-700pm-lesson-dj-donna-j-boyle-730pm-cali-mix/
CATEGORIES:Dance Party
END:VEVENT
END:VCALENDAR