BEGIN:VCALENDAR
VERSION:2.0
PRODID:-//Donna Boyle - ECPv4.5.13//NONSGML v1.0//EN
CALSCALE:GREGORIAN
METHOD:PUBLISH
X-WR-CALNAME:Donna Boyle
X-ORIGINAL-URL:http://donnaboyle.com
X-WR-CALDESC:Events for Donna Boyle
BEGIN:VEVENT
DTSTART;TZID=UTC+0:20190405T203000
DTEND;TZID=UTC+0:20190405T203000
DTSTAMP:20260425T034255
CREATED:20190404T135156Z
LAST-MODIFIED:20190404T135156Z
UID:2214-1554496200-1554496200@donnaboyle.com
SUMMARY:1ST FRIDAY 8:30PM WEST COAST SWING LESSON BALLROOM\, LATIN\, SWING & HUSTLE DANCE PARTY 9:00PM TO 12AM W/ DJ DONNA AT THE CHURCH ON THE MALL
DESCRIPTION:
URL:http://donnaboyle.com/events/1st-friday-830pm-west-coast-swing-lesson-ballroom-latin-swing-hustle-dance-party-900pm-to-12am-w-dj-donna-at-the-church-on-the-mall/
END:VEVENT
END:VCALENDAR